BEGIN:VCALENDAR
VERSION:2.0
PRODID:-//WelpIcalBundle//Calendar App//FR
CALSCALE:GREGORIAN
METHOD:PUBLISH
BEGIN:VTIMEZONE
TZID:Europe/Paris
BEGIN:STANDARD
DTSTART:20261025T010000
TZOFFSETTO:+0100
TZOFFSETFROM:+0200
RRULE:FREQ=YEARLY;BYMONTH=11;BYDAY=1SU
END:STANDARD
BEGIN:DAYLIGHT
DTSTART:20260329T010000
TZOFFSETTO:+0200
TZOFFSETFROM:+0100
RRULE:FREQ=YEARLY;BYMONTH=3;BYDAY=2SU
END:DAYLIGHT
END:VTIMEZONE
BEGIN:VEVENT
UID:event-14028
DTSTART:20260520T160500
DTEND:20260520T170500
SUMMARY:Véronique Fossoul au Sommet sur la longévité
DESCRIPTION:Le Sommet sur la longévité se tiendra le 20 mai à l'Aca
 démie nationale de médecine de Paris\, sous la haut patronage d'Emma
 nuel Macron. \nDirectrice Grand âge et autonomie chez CNP Assurances\
 , Véronique Fossoul interviendra à 16h05 lors de la table ronde inti
 tulée : "Quelles forces mobiliser ? Des propositions concrètes". htt
 ps://www.sommetsurlalongevite.fr/
DTSTAMP:20260424T174938Z
END:VEVENT
END:VCALENDAR
