BEGIN:VCALENDAR
VERSION:2.0
PRODID:-//WelpIcalBundle//Calendar App//FR
CALSCALE:GREGORIAN
METHOD:PUBLISH
BEGIN:VTIMEZONE
TZID:Europe/Paris
BEGIN:STANDARD
DTSTART:20261025T010000
TZOFFSETTO:+0100
TZOFFSETFROM:+0200
RRULE:FREQ=YEARLY;BYMONTH=11;BYDAY=1SU
END:STANDARD
BEGIN:DAYLIGHT
DTSTART:20260329T010000
TZOFFSETTO:+0200
TZOFFSETFROM:+0100
RRULE:FREQ=YEARLY;BYMONTH=3;BYDAY=2SU
END:DAYLIGHT
END:VTIMEZONE
BEGIN:VEVENT
UID:event-13824
DTSTART:20260630T102000
DTEND:20260630T110000
SUMMARY:Emmanuel Brutin à l'Institutional Day
DESCRIPTION:L'Institutional Day aura lieu le 30 juin\, à Paris\, à l
 'hôtel Shangri-La. Responsable de la gestion des portefeuilles assur
 és\, Emmanuel Brutin participera de 10h20 à 11h00 à la table ronde 
 : « Source de diversification\, financement de l’économie réelle
 … La titrisation retrouve-t-elle une place au sein des portefeuilles
  institutionnels ? »\nRéservée aux investisseurs institutionnels\, 
 cette journée d'échange s'articule en deux temps : une matinée déd
 iée aux stratégies macroéconomiques et aux politiques d’investiss
 ement dans les différentes classes d’actifs\, suivie d’un après-
 midi consacré à la prise en compte de la durabilité avec le Forum E
 SG et Impact Investing. https://institutional-day.evenements.agefi.fr/
 onglet-programme
DTSTAMP:20260423T141751Z
END:VEVENT
END:VCALENDAR
