BEGIN:VCALENDAR
VERSION:2.0
PRODID:-//WelpIcalBundle//Calendar App//FR
CALSCALE:GREGORIAN
METHOD:PUBLISH
BEGIN:VTIMEZONE
TZID:Europe/Paris
BEGIN:STANDARD
DTSTART:20261025T010000
TZOFFSETTO:+0100
TZOFFSETFROM:+0200
RRULE:FREQ=YEARLY;BYMONTH=11;BYDAY=1SU
END:STANDARD
BEGIN:DAYLIGHT
DTSTART:20260329T010000
TZOFFSETTO:+0200
TZOFFSETFROM:+0100
RRULE:FREQ=YEARLY;BYMONTH=3;BYDAY=2SU
END:DAYLIGHT
END:VTIMEZONE
BEGIN:VEVENT
UID:event-13594
DTSTART:20260227T110000
DTEND:20260227T123000
SUMMARY:Chiffre d'affaires et résultats annuels 2025
DESCRIPTION:Quiet period : conformément à la réglementation de l’
 AMF\, une période « d’embargo » de quinze jours avant la publicat
 ion des résultats est définie par CNP Assurances. Durant cette péri
 ode\, CNP Assurances s’engage à ne pas communiquer avec le marché.
DTSTAMP:20260421T084017Z
END:VEVENT
END:VCALENDAR
