BEGIN:VCALENDAR
VERSION:2.0
PRODID:-//WelpIcalBundle//Calendar App//FR
CALSCALE:GREGORIAN
METHOD:PUBLISH
BEGIN:VTIMEZONE
TZID:Europe/Paris
BEGIN:STANDARD
DTSTART:20261025T010000
TZOFFSETTO:+0100
TZOFFSETFROM:+0200
RRULE:FREQ=YEARLY;BYMONTH=11;BYDAY=1SU
END:STANDARD
BEGIN:DAYLIGHT
DTSTART:20260329T010000
TZOFFSETTO:+0200
TZOFFSETFROM:+0100
RRULE:FREQ=YEARLY;BYMONTH=3;BYDAY=2SU
END:DAYLIGHT
END:VTIMEZONE
BEGIN:VEVENT
UID:event-13827
DTSTART:20260402T162000
DTEND:20260402T170000
SUMMARY:Stéphane Trarieux at Private Markets Day 2026
DESCRIPTION:Private Markets Day 2026 will be held on Thursday\, April 
 2 at the Shangri-La Hotel in Paris.\nStéphane Trarieux will speak fro
 m 4:20 p.m. to 5:00 p.m. at the round table "Market: what does it take
  today to collect in PE: have a secondary school\, do GP-Stake or spec
 ialize in a theme?" https://pmd.evenements.agefi.fr/en/onglet-programm
 e
DTSTAMP:20260423T085027Z
END:VEVENT
END:VCALENDAR
