BEGIN:VCALENDAR
VERSION:2.0
PRODID:-//WelpIcalBundle//Calendar App//FR
CALSCALE:GREGORIAN
METHOD:PUBLISH
BEGIN:VTIMEZONE
TZID:Europe/Paris
BEGIN:STANDARD
DTSTART:20261025T010000
TZOFFSETTO:+0100
TZOFFSETFROM:+0200
RRULE:FREQ=YEARLY;BYMONTH=11;BYDAY=1SU
END:STANDARD
BEGIN:DAYLIGHT
DTSTART:20260329T010000
TZOFFSETTO:+0200
TZOFFSETFROM:+0100
RRULE:FREQ=YEARLY;BYMONTH=3;BYDAY=2SU
END:DAYLIGHT
END:VTIMEZONE
BEGIN:VEVENT
UID:event-13591
DTSTART:20260129T093000
DTEND:20260129T103000
SUMMARY:Sarah Bouquerel at the Innovation Assurance 2026 conference
DESCRIPTION:Sarah Bouquerel\, Deputy Chief Executive Officer of CNP As
 surances\, will speak at the Innovation Assurance 2026 conference\, or
 ganised on 29 January by Next Content. She will participate in the deb
 ate "Market structuring and development strategies in insurance: 2030 
 perspectives". The following topics will be addressed: digital acceler
 ation and transformation of customer practices\, new risks\, inflation
  of compensation costs\, regulatory changes\, etc. https://www.innovat
 ion-assurance.com/conference/programme/
DTSTAMP:20260419T130111Z
END:VEVENT
END:VCALENDAR
